BEGIN:VCALENDAR
VERSION:2.0
CALSCALE:GREGORIAN
PRODID:adamgibbons/ics
METHOD:PUBLISH
X-PUBLISHED-TTL:PT1H
BEGIN:VEVENT
UID:269@autonoma.red
SUMMARY:1ero de mayo obrero en Los Laches
DTSTAMP:20260421T052427Z
DTSTART:20260501T170000Z
DTEND:20260502T000000Z
DESCRIPTION:Si la consigna es ¡Hasta que la dignidad se haga costumbre! Aqu
	í seguimos\nhaciéndola costumbre al andar\, caminando la palabra después d
	e 10 años\, porque\nlas calles son nuestras y la historia de nuestras luch
	as las narramos nosotrxs.\n\n¡Que vivan las luchas obreras!\n\n🔥VECI NO SE
	 LO PIERDA🔥\n\nLlega el 7mo Festival - Primero de Mayo Obrero Los Laches -
	\n\n"De Abya Yala a Gaza defendemos nuestra casa" Un espacio para encontra
	rnos\,\ncompartir\, honrar y poner en diálogo las luchas\, las resistencia
	s y las memorias\n¡De quienes han construido los barrios con sus manos y l
	os han vuelto trincheras\npara la dignidad de la vida en medio de la ciuda
	d!\n\nFecha: Viernes 1 de mayo\n\nLugar: cancha de La Mina o Polideportivo
	 de Los Laches\n\nTendremos:\n\nBazar comunitario\n\nOlla comunitaria\n\nT
	alleres y juegos\n\nArte callejero\n\nTeatro popular\n\nMúsica rebelde\n\n
	Radio en vivo\n\nMuralismo y Grafitti\n\n\n\n- Quieres apoyarnos a la real
	ización del 7° festival\, puedes hacer tus aportes\naquí -\n\nNEQUI - 3212
	883696\n\nBRE-B: @3212883696\n\nDaniel Barrera Aya\n\nTambién puedes aport
	ar con materiales como pintura\, brochas y rodillos.
URL:https://autonoma.red/event/1ero-de-mayo-obrero-en-los-laches
LOCATION:Parque La Mina barrio Los Laches - CALLE 6 # 5B-03 ESTE
STATUS:CONFIRMED
CATEGORIES:1demayo
X-ALT-DESC;FMTTYPE=text/html:<p>Si la consigna es ¡Hasta que la dignidad se
	 haga costumbre! Aquí seguimos haciéndola costumbre al andar, caminando la
	 palabra después de 10 años, porque las calles son nuestras y la historia 
	de nuestras luchas las narramos nosotrxs. </p><p>¡Que vivan las luchas obr
	eras!</p><p>🔥VECI NO SE LO PIERDA🔥</p><p>Llega el 7mo Festival - Primero d
	e Mayo Obrero Los Laches - </p><p>"De Abya Yala a Gaza defendemos nuestra 
	casa" Un espacio para encontrarnos, compartir, honrar y poner en diálogo l
	as luchas, las resistencias y las memorias ¡De quienes han construido los 
	barrios con sus manos y los han vuelto trincheras para la dignidad de la v
	ida en medio de la ciudad! </p><p>Fecha: Viernes 1 de mayo</p><p>Lugar: ca
	ncha de La Mina o Polideportivo de Los Laches</p><p>Tendremos: </p><p>Baza
	r comunitario</p><p>Olla comunitaria</p><p>Talleres y juegos</p><p>Arte ca
	llejero</p><p>Teatro popular</p><p>Música rebelde</p><p>Radio en vivo</p><
	p>Muralismo y Grafitti</p><p></p><p>- Quieres apoyarnos a la realización d
	el 7° festival, puedes hacer tus aportes aquí -</p><p>NEQUI - 3212883696</
	p><p>BRE-B: @3212883696</p><p>Daniel Barrera Aya</p><p>También puedes apor
	tar con materiales como pintura, brochas y rodillos.</p>
BEGIN:VALARM
ACTION:DISPLAY
DESCRIPTION:1ero de mayo obrero en Los Laches
TRIGGER:-PT1H
END:VALARM
END:VEVENT
END:VCALENDAR
